BEGIN:VCALENDAR
VERSION:2.0
PRODID:-//Eventin//Event Calendar//EN
CALSCALE:GREGORIAN
METHOD:PUBLISH
BEGIN:VEVENT
UID:3fb9251023b8e5ec8f0925c4f286782f@tanjarobisch.com
SUMMARY:Offenes Atelier Samstag 20.06.2026
DESCRIPTION:Gönne dir eine kreative Zeit!\nLerne Maltechniken und\ngestalt
 e dir dein Lieblingsbild!\n\n\nANFÄNGER sind herzlich willkommen!\nKursbes
 chreibung\n\n \n 
LOCATION:Atelier Tanja Robisch
DTSTAMP:20260421T154114Z
DTSTART:20260620T140000Z
DTEND:20260620T170000Z
END:VEVENT
END:VCALENDAR
