BEGIN:VCALENDAR
VERSION:2.0
PRODID:-//Eventin//Event Calendar//EN
CALSCALE:GREGORIAN
METHOD:PUBLISH
BEGIN:VEVENT
UID:b65fcd3fb5783a6f9f4f16c374f90d1c@tanjarobisch.com
SUMMARY:Offenes Atelier Samstag 23.05.2026
DESCRIPTION:Gönne dir eine kreative Zeit!\nLerne Maltechniken und\ngestalt
 e dir dein Lieblingsbild!\n\n\nANFÄNGER sind herzlich willkommen!\nKursbes
 chreibung\n\n \n 
LOCATION:Atelier Tanja Robisch
DTSTAMP:20260421T154250Z
DTSTART:20260523T140000Z
DTEND:20260523T170000Z
END:VEVENT
END:VCALENDAR
